BEGIN:VCALENDAR
VERSION:2.0
PRODID:-//Cupola House and Gardens - ECPv6.15.20//NONSGML v1.0//EN
CALSCALE:GREGORIAN
METHOD:PUBLISH
X-WR-CALNAME:Cupola House and Gardens
X-ORIGINAL-URL:https://cupolahouse.org
X-WR-CALDESC:Events for Cupola House and Gardens
REFRESH-INTERVAL;VALUE=DURATION:PT1H
X-Robots-Tag:noindex
X-PUBLISHED-TTL:PT1H
BEGIN:VTIMEZONE
TZID:America/New_York
BEGIN:DAYLIGHT
TZOFFSETFROM:-0500
TZOFFSETTO:-0400
TZNAME:EDT
DTSTART:20240310T070000
END:DAYLIGHT
BEGIN:STANDARD
TZOFFSETFROM:-0400
TZOFFSETTO:-0500
TZNAME:EST
DTSTART:20241103T060000
END:STANDARD
BEGIN:DAYLIGHT
TZOFFSETFROM:-0500
TZOFFSETTO:-0400
TZNAME:EDT
DTSTART:20250309T070000
END:DAYLIGHT
BEGIN:STANDARD
TZOFFSETFROM:-0400
TZOFFSETTO:-0500
TZNAME:EST
DTSTART:20251102T060000
END:STANDARD
BEGIN:DAYLIGHT
TZOFFSETFROM:-0500
TZOFFSETTO:-0400
TZNAME:EDT
DTSTART:20260308T070000
END:DAYLIGHT
BEGIN:STANDARD
TZOFFSETFROM:-0400
TZOFFSETTO:-0500
TZNAME:EST
DTSTART:20261101T060000
END:STANDARD
END:VTIMEZONE
BEGIN:VTIMEZONE
TZID:America/Halifax
BEGIN:DAYLIGHT
TZOFFSETFROM:-0400
TZOFFSETTO:-0300
TZNAME:ADT
DTSTART:20230312T060000
END:DAYLIGHT
BEGIN:STANDARD
TZOFFSETFROM:-0300
TZOFFSETTO:-0400
TZNAME:AST
DTSTART:20231105T050000
END:STANDARD
BEGIN:DAYLIGHT
TZOFFSETFROM:-0400
TZOFFSETTO:-0300
TZNAME:ADT
DTSTART:20240310T060000
END:DAYLIGHT
BEGIN:STANDARD
TZOFFSETFROM:-0300
TZOFFSETTO:-0400
TZNAME:AST
DTSTART:20241103T050000
END:STANDARD
BEGIN:DAYLIGHT
TZOFFSETFROM:-0400
TZOFFSETTO:-0300
TZNAME:ADT
DTSTART:20250309T060000
END:DAYLIGHT
BEGIN:STANDARD
TZOFFSETFROM:-0300
TZOFFSETTO:-0400
TZNAME:AST
DTSTART:20251102T050000
END:STANDARD
END:VTIMEZONE
BEGIN:VEVENT
DTSTART;TZID=America/New_York:20250927T170000
DTEND;TZID=America/New_York:20250927T190000
DTSTAMP:20260419T154130
CREATED:20250715T210821Z
LAST-MODIFIED:20250715T212901Z
UID:10000054-1758992400-1758999600@cupolahouse.org
SUMMARY:2025 Membership Reception
DESCRIPTION:Join us for our Annual Membership Reception where we celebrate YOU\, our greatest strength! \nMemberships may be renewed online or via check prior to the event or purchased at the gate.  We accept check\, and all credit cards. \n  \n  \n  \n  \n  \nSeptember 27\, 2025 \n5 pm until 7 pm \nCupola House Gardens
URL:https://cupolahouse.org/event/2025-membership-reception/
LOCATION:Cupola House\, 408 S. Broad Street\, Edenton\, NC\, 27932\, United States
ATTACH;FMTTYPE=image/jpeg:https://cupolahouse.org/wp-content/uploads/2025/07/Membership-Reception.jpg
END:VEVENT
BEGIN:VEVENT
DTSTART;VALUE=DATE:20250926
DTEND;VALUE=DATE:20250928
DTSTAMP:20260419T154130
CREATED:20250925T164020Z
LAST-MODIFIED:20250927T185847Z
UID:10000062-1758844800-1759017599@cupolahouse.org
SUMMARY:Membership Reception Weather Watch!!
DESCRIPTION:WEATHER RELATED VENUE CHANGE!!!
URL:https://cupolahouse.org/event/membership-reception-weather-watch/
LOCATION:Cupola House\, 408 S. Broad Street\, Edenton\, NC\, 27932\, United States
ATTACH;FMTTYPE=image/png:https://cupolahouse.org/wp-content/uploads/2025/09/MembershipReception_Venue-Change.png
END:VEVENT
BEGIN:VEVENT
DTSTART;VALUE=DATE:20250822
DTEND;VALUE=DATE:20250824
DTSTAMP:20260419T154130
CREATED:20250626T184806Z
LAST-MODIFIED:20250626T184923Z
UID:10000048-1755820800-1755993599@cupolahouse.org
SUMMARY:Great Southeast Pollinator Census in the Cupola House Gardens!
DESCRIPTION:Where:  Cupola House and Gardens — A Monarch Waystation \nWhen:  August 22-23\, 2025 \nAdditional information:  www.gsepc.org \nLocal contact:  Kellie L. Binnicker\, Extension Agent\, Edenton\, NC \n  \n 
URL:https://cupolahouse.org/event/great-southeast-pollinator-census-in-the-cupola-house-gardens/
LOCATION:Cupola House\, 408 S. Broad Street\, Edenton\, NC\, 27932\, United States
ATTACH;FMTTYPE=image/png:https://cupolahouse.org/wp-content/uploads/2025/06/Great-SE-Pollinator-ad_CHA.png
END:VEVENT
BEGIN:VEVENT
DTSTART;TZID=America/New_York:20250808T170000
DTEND;TZID=America/New_York:20250808T200000
DTSTAMP:20260419T154130
CREATED:20250614T160728Z
LAST-MODIFIED:20250614T160729Z
UID:10000033-1754672400-1754683200@cupolahouse.org
SUMMARY:Second Friday Stroll Gift Shop Open!!
DESCRIPTION:It’s official!  Our Pop-Up Gift Shop will be open!! \nThe Cupola House is proud to participate in the Historic Edenton Second Friday Strolls June – September!  Come see our new merchandise from 5 pm until 8 pm on the first floor of the house!  See you there!
URL:https://cupolahouse.org/event/25535-2/2025-08-08/
LOCATION:Cupola House\, 408 S. Broad Street\, Edenton\, NC\, 27932\, United States
ATTACH;FMTTYPE=image/png:https://cupolahouse.org/wp-content/uploads/2025/06/Gift-Shop-ad-1.png
END:VEVENT
BEGIN:VEVENT
DTSTART;TZID=America/New_York:20250715T173000
DTEND;TZID=America/New_York:20250715T190000
DTSTAMP:20260419T154130
CREATED:20250614T160132Z
LAST-MODIFIED:20250626T005110Z
UID:10000047-1752600600-1752606000@cupolahouse.org
SUMMARY:Special Summer Speaker Event
DESCRIPTION:“More Revelations of the Cupola House” \n  \n  \nPresented by: \nAndrew Ownbey Restorations\, LLC \n  \nwith:  Andrew Ownbey\, Wade Rogers and Don Jordan
URL:https://cupolahouse.org/event/special-summer-speaker-event/
LOCATION:Shepard-Pruden Memorial Library\, 106 W. Water St.\, Edenton\, NC\, 27932
CATEGORIES:Speaker Series
ATTACH;FMTTYPE=image/png:https://cupolahouse.org/wp-content/uploads/2025/06/Screenshot-by-Snip-My-on-Jun-25-2025-at-8.49.43 PM.png
END:VEVENT
BEGIN:VEVENT
DTSTART;TZID=America/New_York:20250711T170000
DTEND;TZID=America/New_York:20250711T200000
DTSTAMP:20260419T154130
CREATED:20250614T160728Z
LAST-MODIFIED:20250614T160729Z
UID:10000032-1752253200-1752264000@cupolahouse.org
SUMMARY:Second Friday Stroll Gift Shop Open!!
DESCRIPTION:It’s official!  Our Pop-Up Gift Shop will be open!! \nThe Cupola House is proud to participate in the Historic Edenton Second Friday Strolls June – September!  Come see our new merchandise from 5 pm until 8 pm on the first floor of the house!  See you there!
URL:https://cupolahouse.org/event/25535-2/2025-07-11/
LOCATION:Cupola House\, 408 S. Broad Street\, Edenton\, NC\, 27932\, United States
ATTACH;FMTTYPE=image/png:https://cupolahouse.org/wp-content/uploads/2025/06/Gift-Shop-ad-1.png
END:VEVENT
BEGIN:VEVENT
DTSTART;TZID=America/New_York:20250613T170000
DTEND;TZID=America/New_York:20250613T200000
DTSTAMP:20260419T154130
CREATED:20250611T014041Z
LAST-MODIFIED:20250611T014634Z
UID:10000031-1749834000-1749844800@cupolahouse.org
SUMMARY:Second Friday Stroll Gift Shop Open!!
DESCRIPTION:It’s official!  Our Pop-Up Gift Shop will be open!! \nThe Cupola House is proud to participate in the Historic Edenton Second Friday Stroll on June 13th!  Come see our new merchandise from 5 pm until 8 pm on the first floor of the house!  See you there!
URL:https://cupolahouse.org/event/25535/
LOCATION:Cupola House\, 408 S. Broad Street\, Edenton\, NC\, 27932\, United States
ATTACH;FMTTYPE=image/png:https://cupolahouse.org/wp-content/uploads/2025/06/Gift-Shop-ad-1.png
END:VEVENT
BEGIN:VEVENT
DTSTART;VALUE=DATE:20250321
DTEND;VALUE=DATE:20250324
DTSTAMP:20260419T154130
CREATED:20250320T012527Z
LAST-MODIFIED:20250320T013102Z
UID:10000029-1742515200-1742774399@cupolahouse.org
SUMMARY:House Tour Update
DESCRIPTION:Because of on-going deconstruction\, the Cupola House will not be open for tours this weekend\, March 21-23\, 2025. \nWe apologize for any inconvenience.
URL:https://cupolahouse.org/event/house-tour-update/
LOCATION:Cupola House\, 408 S. Broad Street\, Edenton\, NC\, 27932\, United States
ATTACH;FMTTYPE=image/jpeg:https://cupolahouse.org/wp-content/uploads/2025/03/Tour-closure-announcement-FB_IB-03192025.jpg
END:VEVENT
BEGIN:VEVENT
DTSTART;TZID=America/Halifax:20240921T100000
DTEND;TZID=America/Halifax:20240921T160000
DTSTAMP:20260419T154130
CREATED:20240828T100003Z
LAST-MODIFIED:20240914T142232Z
UID:10000001-1726912800-1726934400@cupolahouse.org
SUMMARY:Membership Reception
DESCRIPTION:
URL:https://cupolahouse.org/event/membership-reception/
LOCATION:Cupola House\, 408 S. Broad Street\, Edenton\, NC\, 27932\, United States
ATTACH;FMTTYPE=image/png:https://cupolahouse.org/wp-content/uploads/2024/08/66d378b6552b1_Wassail-Bowl.png
END:VEVENT
END:VCALENDAR