BEGIN:VCALENDAR
VERSION:2.0
PRODID:-//Cupola House and Gardens - ECPv6.15.20//NONSGML v1.0//EN
CALSCALE:GREGORIAN
METHOD:PUBLISH
X-ORIGINAL-URL:https://cupolahouse.org
X-WR-CALDESC:Events for Cupola House and Gardens
REFRESH-INTERVAL;VALUE=DURATION:PT1H
X-Robots-Tag:noindex
X-PUBLISHED-TTL:PT1H
BEGIN:VTIMEZONE
TZID:America/New_York
BEGIN:DAYLIGHT
TZOFFSETFROM:-0500
TZOFFSETTO:-0400
TZNAME:EDT
DTSTART:20240310T070000
END:DAYLIGHT
BEGIN:STANDARD
TZOFFSETFROM:-0400
TZOFFSETTO:-0500
TZNAME:EST
DTSTART:20241103T060000
END:STANDARD
BEGIN:DAYLIGHT
TZOFFSETFROM:-0500
TZOFFSETTO:-0400
TZNAME:EDT
DTSTART:20250309T070000
END:DAYLIGHT
BEGIN:STANDARD
TZOFFSETFROM:-0400
TZOFFSETTO:-0500
TZNAME:EST
DTSTART:20251102T060000
END:STANDARD
BEGIN:DAYLIGHT
TZOFFSETFROM:-0500
TZOFFSETTO:-0400
TZNAME:EDT
DTSTART:20260308T070000
END:DAYLIGHT
BEGIN:STANDARD
TZOFFSETFROM:-0400
TZOFFSETTO:-0500
TZNAME:EST
DTSTART:20261101T060000
END:STANDARD
BEGIN:DAYLIGHT
TZOFFSETFROM:-0500
TZOFFSETTO:-0400
TZNAME:EDT
DTSTART:20270314T070000
END:DAYLIGHT
BEGIN:STANDARD
TZOFFSETFROM:-0400
TZOFFSETTO:-0500
TZNAME:EST
DTSTART:20271107T060000
END:STANDARD
END:VTIMEZONE
BEGIN:VEVENT
DTSTART;TZID=America/New_York:20260414T173000
DTEND;TZID=America/New_York:20260414T190000
DTSTAMP:20260419T135845
CREATED:20260121T163319Z
LAST-MODIFIED:20260325T200143Z
UID:10000075-1776187800-1776193200@cupolahouse.org
SUMMARY:2026 Spring Speaker Series
DESCRIPTION:2026 Spring Speaker Series \nFancy Discoveries:  Evidence for the Cupola House Exterior \nAndrew Ownbey\, Lecturer \nAndrew Ownbey Restorations\, LLC \nShepard-Pruden Memorial Library \n5:30 pm until 7 pm
URL:https://cupolahouse.org/event/2026-spring-speaker-series-2/
LOCATION:Shepard-Pruden Memorial Library\, 106 W. Water St.\, Edenton\, NC\, 27932
CATEGORIES:Speaker Series
ATTACH;FMTTYPE=image/png:https://cupolahouse.org/wp-content/uploads/2026/01/2026-spring-speaker-series_APRIL14.png
END:VEVENT
BEGIN:VEVENT
DTSTART;TZID=America/New_York:20260205T173000
DTEND;TZID=America/New_York:20260205T190000
DTSTAMP:20260419T135845
CREATED:20260203T173008Z
LAST-MODIFIED:20260203T173008Z
UID:10000078-1770312600-1770318000@cupolahouse.org
SUMMARY:2026 Spring Speaker Series
DESCRIPTION:2026 Spring Speaker Series– RESCHEDULED!! \n“Restoring a North Carolina Icon:  Edenton’s Cupola House\, Part I” \nRobert Leath\, Executive Director \nEdenton Historical Commission \n 
URL:https://cupolahouse.org/event/2026-spring-speaker-series-4/
LOCATION:Shepard-Pruden Memorial Library\, 106 W. Water St.\, Edenton\, NC\, 27932
CATEGORIES:Speaker Series
ATTACH;FMTTYPE=image/png:https://cupolahouse.org/wp-content/uploads/2026/02/2026-Spring-Series_FEB-resched-ad.png
END:VEVENT
BEGIN:VEVENT
DTSTART;TZID=America/New_York:20260203T173000
DTEND;TZID=America/New_York:20260203T190000
DTSTAMP:20260419T135845
CREATED:20251023T014233Z
LAST-MODIFIED:20260203T143019Z
UID:10000066-1770139800-1770145200@cupolahouse.org
SUMMARY:2026 Spring Speaker Series
DESCRIPTION:2026 Spring Speaker Series \n“Restoring a North Carolina Icon:  Edenton’s Cupola House\, Part I \nRobert Leath\, Executive Director \nEdenton Historical Commission \n 
URL:https://cupolahouse.org/event/2026-spring-speaker-series/
LOCATION:Shepard-Pruden Memorial Library\, 106 W. Water St.\, Edenton\, NC\, 27932
CATEGORIES:Speaker Series
ATTACH;FMTTYPE=image/png:https://cupolahouse.org/wp-content/uploads/2025/10/2026-Speaker-Series_Feb_cancellation-ad.png
END:VEVENT
BEGIN:VEVENT
DTSTART;TZID=America/New_York:20250902T173000
DTEND;TZID=America/New_York:20250902T190000
DTSTAMP:20260419T135845
CREATED:20250627T201720Z
LAST-MODIFIED:20250819T173337Z
UID:10000049-1756834200-1756839600@cupolahouse.org
SUMMARY:Special Summer Speaker Event
DESCRIPTION:“More Revelations of the Cupola House” \n  \n  \nPresented by: \nAndrew Ownbey Restorations\, LLC \n  \nwith:  Andrew Ownbey\, Wade Rogers and Don Jordan
URL:https://cupolahouse.org/event/special-summer-speaker-event-2/
LOCATION:Shepard-Pruden Memorial Library\, 106 W. Water St.\, Edenton\, NC\, 27932
CATEGORIES:Speaker Series
ATTACH;FMTTYPE=image/png:https://cupolahouse.org/wp-content/uploads/2025/06/Summer-Speaker-Event_Sep.png
END:VEVENT
BEGIN:VEVENT
DTSTART;TZID=America/New_York:20250715T173000
DTEND;TZID=America/New_York:20250715T190000
DTSTAMP:20260419T135845
CREATED:20250614T160132Z
LAST-MODIFIED:20250626T005110Z
UID:10000047-1752600600-1752606000@cupolahouse.org
SUMMARY:Special Summer Speaker Event
DESCRIPTION:“More Revelations of the Cupola House” \n  \n  \nPresented by: \nAndrew Ownbey Restorations\, LLC \n  \nwith:  Andrew Ownbey\, Wade Rogers and Don Jordan
URL:https://cupolahouse.org/event/special-summer-speaker-event/
LOCATION:Shepard-Pruden Memorial Library\, 106 W. Water St.\, Edenton\, NC\, 27932
CATEGORIES:Speaker Series
ATTACH;FMTTYPE=image/png:https://cupolahouse.org/wp-content/uploads/2025/06/Screenshot-by-Snip-My-on-Jun-25-2025-at-8.49.43 PM.png
END:VEVENT
BEGIN:VEVENT
DTSTART;TZID=America/New_York:20250506T173000
DTEND;TZID=America/New_York:20250506T183000
DTSTAMP:20260419T135845
CREATED:20250110T200016Z
LAST-MODIFIED:20250324T223511Z
UID:10000028-1746552600-1746556200@cupolahouse.org
SUMMARY:2025 Spring Speaker Series
DESCRIPTION:Uncovering More Mysteries at the Cupola House presented by: \nAndrew Ownbey Restorations\, LLC with Andrew Ownbey\, Wade Rogers and Don Jordan \n  \n 
URL:https://cupolahouse.org/event/2025-spring-speaker-series-5/
LOCATION:Shepard-Pruden Memorial Library\, 106 W. Water St.\, Edenton\, NC\, 27932
ATTACH;FMTTYPE=image/jpeg:https://cupolahouse.org/wp-content/uploads/2025/01/2025-Speaker-Series_May_FB-sized-ad-1.jpg
END:VEVENT
BEGIN:VEVENT
DTSTART;TZID=America/New_York:20250304T173000
DTEND;TZID=America/New_York:20250304T183000
DTSTAMP:20260419T135845
CREATED:20250110T192313Z
LAST-MODIFIED:20250131T170752Z
UID:10000026-1741109400-1741113000@cupolahouse.org
SUMMARY:2025 Spring Speaker Series
DESCRIPTION:The Cupola House:  An In Depth Look At Treasures in the Dining Room Hutch \nPresented by:  Matt Markoya \nOld North Pewter\, Edenton\, NC \n 
URL:https://cupolahouse.org/event/2025-spring-speaker-series-3/
LOCATION:Shepard-Pruden Memorial Library\, 106 W. Water St.\, Edenton\, NC\, 27932
ATTACH;FMTTYPE=image/jpeg:https://cupolahouse.org/wp-content/uploads/2025/01/2025-Speaker-Series_March_FB-sized-ad.jpg
END:VEVENT
BEGIN:VEVENT
DTSTART;TZID=America/New_York:20250204T173000
DTEND;TZID=America/New_York:20250204T183000
DTSTAMP:20260419T135845
CREATED:20250110T190744Z
LAST-MODIFIED:20250131T171459Z
UID:10000008-1738690200-1738693800@cupolahouse.org
SUMMARY:2025 Spring Speaker Series
DESCRIPTION:The Art of the Mantua Maker:  Studying two 18th century gowns in the Cupola House Association collection. \nNeal Hurst\, Lecturer \nAssociate Curator of Costume and Textiles \nColonial Williamsburg Foundation\, Williamsburg\, VA \n 
URL:https://cupolahouse.org/event/2025-spring-speaker-series-2/
LOCATION:Shepard-Pruden Memorial Library\, 106 W. Water St.\, Edenton\, NC\, 27932
CATEGORIES:Speaker Series
ATTACH;FMTTYPE=image/jpeg:https://cupolahouse.org/wp-content/uploads/2025/01/2025-Speaker-Series_Feb_FB-sized-ad.jpg
END:VEVENT
END:VCALENDAR